BEGIN:VCALENDAR
VERSION:2.0
PRODID:-//Squarespace Inc/Squarespace 6//v6//EN
BEGIN:VEVENT
UID:5c6ddcaf15fcc0f9572c9123@squarespace.com
DTSTAMP:20190220T230338Z
DTSTART:20191219T220000Z
DTEND:20191220T043000Z
SUMMARY:Student Free Day
END:VEVENT
END:VCALENDAR
