BEGIN:VCALENDAR
VERSION:2.0
PRODID:-//Squarespace Inc/Squarespace 6//v6//EN
BEGIN:VEVENT
UID:5c6ddc6924a6943895d873d4@squarespace.com
DTSTAMP:20190220T230259Z
DTSTART:20191218T220000Z
DTEND:20191219T023000Z
SUMMARY:Term 4 Last Day
END:VEVENT
END:VCALENDAR
