BEGIN:VCALENDAR
VERSION:2.0
PRODID:-//Squarespace Inc/Squarespace 6//v6//EN
BEGIN:VEVENT
UID:5ddb2af7b53adb35ea9e9833@squarespace.com
DTSTAMP:20191125T011526Z
DTSTART:20191217T220000Z
DTEND:20191218T041500Z
SUMMARY:Grade 6 Ride and Games day
END:VEVENT
END:VCALENDAR
