BEGIN:VCALENDAR
VERSION:2.0
PRODID:-//Squarespace Inc/Squarespace 6//v6//EN
BEGIN:VEVENT
UID:5de72f771c05887efd8347ac@squarespace.com
DTSTAMP:20191204T040237Z
DTSTART:20191216T025000Z
DTEND:20191216T033000Z
SUMMARY:PFA Icy pole day
END:VEVENT
END:VCALENDAR
