BEGIN:VCALENDAR
VERSION:2.0
PRODID:-//Squarespace Inc/Squarespace 6//v6//EN
BEGIN:VEVENT
UID:5ddb2945b53adb35ea9e6507@squarespace.com
DTSTAMP:20191125T010820Z
DTSTART:20191216T080000Z
DTEND:20191216T093000Z
SUMMARY:Grade 6 Graduation Ceremony 
END:VEVENT
END:VCALENDAR
