BEGIN:VCALENDAR
VERSION:2.0
PRODID:-//Squarespace Inc/Squarespace 6//v6//EN
BEGIN:VEVENT
UID:5ddb28cd81fab20e4f372495@squarespace.com
DTSTAMP:20191125T010906Z
DTSTART:20191212T220000Z
DTEND:20191213T030000Z
SUMMARY:Grade 6 Aquatic Adventure Casey Arc
END:VEVENT
END:VCALENDAR
