BEGIN:VCALENDAR
VERSION:2.0
PRODID:-//Squarespace Inc/Squarespace 6//v6//EN
BEGIN:VEVENT
UID:5ddb285c460bea39445195a6@squarespace.com
DTSTAMP:20191125T011143Z
DTSTART:20191211T220000Z
DTEND:20191212T040000Z
SUMMARY:Grade 6 Bowling and McDonalds
END:VEVENT
END:VCALENDAR
