BEGIN:VCALENDAR
VERSION:2.0
PRODID:-//Squarespace Inc/Squarespace 6//v6//EN
BEGIN:VEVENT
UID:5ddb2812460bea3944518be3@squarespace.com
DTSTAMP:20191125T010305Z
DTSTART:20191209T220000Z
DTEND:20191210T043000Z
SUMMARY:Grade 5 Bike Ed
END:VEVENT
END:VCALENDAR
