BEGIN:VCALENDAR
VERSION:2.0
PRODID:-//Squarespace Inc/Squarespace 6//v6//EN
BEGIN:VEVENT
UID:5c6ddc07652deaacb0f2aad9@squarespace.com
DTSTAMP:20191107T044338Z
DTSTART:20191213T033000Z
DTEND:20191213T093000Z
SUMMARY:School Fete
END:VEVENT
END:VCALENDAR
