BEGIN:VCALENDAR
VERSION:2.0
PRODID:-//Squarespace Inc/Squarespace 6//v6//EN
BEGIN:VEVENT
UID:5c6ddaf941920251d93c8abc@squarespace.com
DTSTAMP:20190220T225615Z
DTSTART:20191103T220000Z
DTEND:20191104T043000Z
SUMMARY:Student Free Day
END:VEVENT
END:VCALENDAR
