BEGIN:VCALENDAR
VERSION:2.0
PRODID:-//Squarespace Inc/Squarespace 6//v6//EN
BEGIN:VEVENT
UID:5ddb14c55fd0b302be29acf2@squarespace.com
DTSTAMP:20191125T011033Z
DTSTART:20191129T060000Z
DTEND:20191129T083000Z
SUMMARY:Grade 3 pizza and Movie Night 
END:VEVENT
END:VCALENDAR
