BEGIN:VCALENDAR
VERSION:2.0
PRODID:-//Squarespace Inc/Squarespace 6//v6//EN
BEGIN:VEVENT
UID:5d52446d1df8b0000199f2b2@squarespace.com
DTSTAMP:20190813T052029Z
DTSTART:20191126T220000Z
DTEND:20191127T043000Z
SUMMARY:Prep Farm Excursion Chesterfield Farm
END:VEVENT
END:VCALENDAR
