BEGIN:VCALENDAR
VERSION:2.0
PRODID:-//Squarespace Inc/Squarespace 6//v6//EN
BEGIN:VEVENT
UID:5ddb2a7c8f514102b4649989@squarespace.com
DTSTAMP:20191125T011418Z
DTSTART:20191217T220000Z
DTEND:20191218T023000Z
SUMMARY:Grade 5 Movie - walk to Fountain Gate
END:VEVENT
END:VCALENDAR
