BEGIN:VCALENDAR
VERSION:2.0
PRODID:-//Squarespace Inc/Squarespace 6//v6//EN
BEGIN:VEVENT
UID:5d52411b6373080001bb2a28@squarespace.com
DTSTAMP:20190813T045124Z
DTSTART:20191027T210000Z
DTEND:20191030T043000Z
SUMMARY:Grade Four Camp - Phillip Island
END:VEVENT
END:VCALENDAR
